BEGIN:VCALENDAR
VERSION:2.0
PRODID:-//CEPID BRAINN - ECPv5.11.0//NONSGML v1.0//EN
CALSCALE:GREGORIAN
METHOD:PUBLISH
X-WR-CALNAME:CEPID BRAINN
X-ORIGINAL-URL:https://www.brainn.org.br/en
X-WR-CALDESC:Eventos para CEPID BRAINN
BEGIN:VTIMEZONE
TZID:America/Sao_Paulo
BEGIN:STANDARD
TZOFFSETFROM:-0300
TZOFFSETTO:-0300
TZNAME:-03
DTSTART:20210101T000000
END:STANDARD
END:VTIMEZONE
BEGIN:VEVENT
DTSTART;VALUE=DATE:20210828
DTEND;VALUE=DATE:20210902
DTSTAMP:20260423T053114
CREATED:20210218T205303Z
LAST-MODIFIED:20210218T205836Z
UID:12643-1630108800-1630540799@www.brainn.org.br
SUMMARY:34th International Epilepsy Congress
DESCRIPTION:Abstract submission is open!\n  \nANNOUNCEMENT\n\n\n\nAs the COVID-19 pandemic continues to affect so many around the world and due to the uncertainty surrounding public health guidelines this summer\, the International League Against Epilepsy (ILAE) and the International Bureau for Epilepsy (IBE) have taken the decision that the 34th International Epilepsy Congress\, 28 August – 1 September 2021\, will be delivered in an online format. The health and safety of our delegates\, speakers\, committees\, and their families and wider circle is of primary concern\, and we all join the global effort to reduce infection. \nWhile it is disappointing not to be able to meet in person\, we are delighted to be able to offer you the best in epilepsy education in your home\, office\, car – or wherever suits you best. The virtual congress will facilitate easy access to cutting-edge science\, the latest updates and best practice\, and the on-demand feature means that you can learn from the experts in your own time. Sessions will facilitate interaction by asking questions\, sharing your opinion\, participating in polls\, and more. \nThe congress will present the highest quality\, flexible education\, providing a platform to hear from world-renowned experts and with the on-demand recordings of the sessions allowing you to attend sessions at your own convenience. All of the content will be accessible for delegates during and after the congress. \nResearchers from around the globe will present and publish the latest findings. You have the opportunity to submit your abstract for poster or oral presentation. Abstract submission is now open and the deadline is 25 March 2021. \nThe virtual congress will offer abundant occasions for peer networking\, allowing you to catch up with friends and colleagues\, schedule meetings with new contacts and participate in networking sessions. In addition\, many industry partners are taking part in the congress to showcase the latest innovations and developments in our field. \nBoth the ILAE and the IBE have a mission to bring epilepsy education to the broadest audience and by reducing the registration fees for the virtual congress and\, without travel or accommodation costs\, we hope that more colleagues from around the world will be able to attend. Early bird registration is now available! \nWe look forward to welcoming you to the 34th IEC Virtual. \nIf you have any queries\, please contact iec@epilepsycongress.org.
URL:https://www.brainn.org.br/en/evento/34th-international-epilepsy-congress/
LOCATION:Virtual
CATEGORIES:Congress
ATTACH;FMTTYPE=image/jpeg:https://www.brainn.org.br/wp-content/uploads/2021/02/CEPID-BRAINN-ILAE-IBE-Epilepsy-Congress-2021.jpg
END:VEVENT
END:VCALENDAR